BEGIN:VCALENDAR
VERSION:2.0
PRODID:http://sofo-hd.de
BEGIN:VEVENT
UID:1771793534@sofo-hd.de
DTSTART:20260512T220500Z
SUMMARY:"ÜBERMORGEN: Deadline für QSM-Anträge"
DESCRIPTION:"wie jedes Jahr steht am 15. Mai die Deadline für die z
 weite (und damit für dieses Haushaltsjahr finale) Runde
  der Vergabe der studentischen Qualitätssicherungsmitte
 l an. Alle, die zum ersten Vergabetermin im Januar nich
 t ihr volles Budget ausgeschöpft und damit noch Restmit
 tel für Projekte im kommenden Wintersemester haben, müs
 sen sich jetzt ranhalten.\n\nEine Auflistung, wieviel
  jede Fachschaft in der ersten Runde beantragt habt, fi
 ndet ihr auf der Seite des QSM-Referats:\n\nhttps://w
 ww.stura.uni-heidelberg.de/vs-strukturen/referate/qsm/
 \n\nZu diesem Termin können auch alle Studierenden Ant
 räge an den QSM-Ausschuss stellen, der über die Verteil
 ung der \"Restmittel\", die Mittel, die die Fachschafte
 n nicht ausgegeben haben, beschließt. Eine Prognose dar
 über, wieviel Geld es am Ende über die Kommission zu ve
 rteilen gibt, ist nicht möglich.\n\nWenn ihr jetzt no
 ch keine Anträge gestellt habt oder letzte Fragen habt:
  wendet euch ans QSM-Referat.\n\nMit Fragen wendet eu
 ch an qsm@stura.uni-heidelberg.de"
DTSTAMP:20260325T095635Z
URL:"http://sofo-hd.de/event/1771793534"
END:VEVENT
END:VCALENDAR
