BEGIN:VCALENDAR
VERSION:2.0
PRODID:http://sofo-hd.de
BEGIN:VEVENT
UID:1775677017@sofo-hd.de
DTSTART:20260429T170000Z
SUMMARY:"Studis gegen Rechts - Offenes Plenum"
LOCATION:rabatz
DESCRIPTION:"Wir sind Studis gegen Rechts, eine studentische Initia
 tive gegen den Rechtsruck. Wir treffen uns mittwochs im
  Rabatz zum offenen Plenum. Dort organisieren wir unser
 e nächsten Aktionen und tauschen uns über politische Th
 emen aus.\nKomm gerne vorbei, egal wie viel Erfahrung 
 du mit politischer Arbeit hast! \n\nZeitplan:\n\n* 
 18 Uhr: Raumöffnung, die ersten trudeln ein\n* 19 Uhr:
  Kleingruppenarbeit\n* 20 Uhr: Offenes Plenum\n\nKom
 m gerne schon zwischen 18 und 19 Uhr vorbei!\n\nHier 
 ist der Link zu unserer Telegram Gruppe, falls du Frage
 n hast:\nhttps://t.me/+7n8ykwVIBydlNThi\n\nHier ist 
 unser Instagramkanal:\nhttps://www.instagram.com/studi
 sgegenrechts_heidelberg/"
DTSTAMP:20260416T073514Z
URL:"http://sofo-hd.de/event/1775677017"
END:VEVENT
BEGIN:VEVENT
UID:1775641462@sofo-hd.de
DTSTART:20260430T170000Z
SUMMARY:"Antifaschistische Vorabend-Demo „Burschis in den Necka
 r fegen!“"
LOCATION:stabu
DESCRIPTION:"Antifaschistische Vorabend-Demo „Burschis in den Necka
 r fegen! Feministisch und antifaschistisch in den 1. Ma
 i“\n\nBurschenschaften und andere Studentenverbindung
 en fallen immer wieder durch Angriffe gegen Jüd*innen, 
 rassifizierte Menschen, FLINTA*s und Queers auf. Diese 
 Angriffe sind in der korporierten Welt keine erstaunlic
 hen Einzelfälle, sondern regelmäßiger Ausdruck der Ideo
 logie der reaktionären Männerbünde. In Heidelberg prägt
 e den Vorabend zum 1. Mai jahrelang ein Fackelmarsch de
 r Korporationen, bei dem rechte Lieder gesungen und mas
 senhaft rassistische Übergriffe verübt wurden - bis die
  Autonome Antifa Heidelberg das braune Treiben 1997 zur
 ückschlug. Seitdem füllen wir am Abend des 30. April de
 n öffentlichen Raum mit linken Inhalten. Wie schon in d
 en vergangenen Jahren nehmen wir uns auch 2026 die Stra
 ße und halten Heidelberg mit einer feministischen und a
 ntifaschistischen Vorabenddemo burschifrei!\n\nDie St
 udentenverbindungen klammern sich an jahrhundertealte S
 trukturen des Patriarchats. Wir werden in der Walpurgis
 nacht klar machen, dass wir diese zerschlagen werden. D
 enn wir sind die Enkel*innen der Hexen, die sie nicht v
 erbrennen konnten! Burschis in den Neckar fegen! \n\n
 2020 kam es zu einem brutalen antisemitischen Übergriff
  auf dem Haus der Burschenschaft Normannia, bei dem die
  Korporierten einen Gast, der jüdische Vorfahren hat, m
 it Gürteln verprügelten und mit Geld bewarfen. Sechs Ja
 hre später versucht die Rechtsaußen-Verbindung, sich ne
 u zu formieren. Aber wir werden zu ihrem Haus ziehen un
 d klar machen: Es wird kein neues Kapitel der Nazi-Burs
 chenschaft in Heidelberg geben!\n\nDie Demo startet a
 m 30. April 2026 um 19 Uhr mit einer Auftaktkundgebung 
 an der Stadtbücherei Heidelberg. Im Anschluss gibt's ve
 gane Küfa im Café Gegendruck. Feministisch und antifasc
 histisch in den 1. Mai! \n\nVeranstaltet von AIHD, Se
 ebrücke, Falken, VVN-BdA, ROSA  Hochschulgruppe und Lin
 ksjugend ['solid]"
DTSTAMP:20260420T055804Z
URL:"http://sofo-hd.de/event/1775641462"
END:VEVENT
BEGIN:VEVENT
UID:1771751930@sofo-hd.de
DTSTART:20260501T180000Z
SUMMARY:"Antifa Siempre! Der offene Infoabend der AIHD"
LOCATION:gegendruck
DESCRIPTION:"Antifa Siempre! Der offene Infoabend der Antifaschisti
 schen Initiative Heidelberg: Input, Diskussion, Kneipen
 abend; immer am 1. Freitag im Monat\n\nSeit der 1. Ma
 i im Jahr 1890 erstmalig als Protest- und Kampftag für 
 die Rechte der Arbeiter*innen begangen wurde, war er im
 mer wieder staatlicher Repression ausgesetzt. 1929 stei
 gerten sich die polizeilichen Angriffe zu einem Blutbad
 , als der sozialdemokratische Polizeipräsident Karl Zör
 giebel alle Demonstrationen am 1. Mai verboten hatte. D
 ie KPD rief dennoch zu Protestzügen auf und die Arbeite
 r*innen nahmen sich die Straße. Am Nachmittag des 1. Ma
 i setzte die Polizei nicht nur Knüppel, sondern auch zu
 nehmend Schusswaffen ein, griff wahllos nicht nur Demon
 strierende, sondern auch Passant*innen an und erschoss 
 sogar mehrere Anwohner*innen in ihren Wohnungen. Die st
 aatlichen Gewaltexzesse dauerten noch zwei Tage an. Dut
 zende Arbeiter*innen wurden von den enthemmten Einsatzk
 räften ermordet. Trotz anhaltender Empörung gab es staa
 tlicherseits keine Untersuchung der Vorfälle - stattdes
 sen aber eine neue Repressionswelle gegen die kommunist
 ische Bewegung.\n\nBei unserem Input wollen wir einen
  Blick auf das mehrtägige polizeiliche Massaker werfen,
  das als Berliner Blutmai in die Geschichte einging.\n
 \nDas Antifa Siempre! will einen Ort für antifaschisti
 sche Vernetzung und Austausch für Einzelpersonen und Gr
 uppen schaffen: Nach einem inhaltlichen Input ist Raum 
 für Diskussionen zu aktuellen Themen und bevorstehenden
  Veranstaltungen. Bei kühlen Getränken lassen wir den A
 bend gemeinsam ausklingen und wollen miteinander ins Ge
 spräch kommen."
DTSTAMP:20260408T074744Z
URL:"http://sofo-hd.de/event/1771751930"
END:VEVENT
BEGIN:VEVENT
UID:1775641936@sofo-hd.de
DTSTART:20260503T150000Z
SUMMARY:"Antifaschistischer Stadtrundgang \"Heidelberg im Natio
 nalsozialismus - Verfolgung und Widerstand\""
LOCATION:"Treffpunkt: Ecke Hauptstr./Theaterstr."
DESCRIPTION:"Die VVN-BdA Heidelberg und die Antifaschistische Initi
 ative Heidelberg veranstalten den Antifaschistischen St
 adtrundgang „Heidelberg im Nationalsozialismus – Verfol
 gung und Widerstand“. Treffpunkt ist um 17 Uhr an der E
 cke Hauptstraße/Theaterstraße.\nDer zweieinhalbstündig
 e Antifaschistische Stadtrundgang führt durch die Heide
 lberger Altstadt. Er bietet einen Überblick über den Na
 tionalsozialismus in Heidelberg von seinem frühen Ersta
 rken in der Weimarer Republik bis hin zur Befreiung und
  verweist auch auf die Nachwirkungen in der frühen BRD.
  An verschiedenen historischen Orten wird an Täter*inne
 n und Opfer erinnert, aber auch an Menschen, die es gew
 agt haben, Widerstand zu leisten."
DTSTAMP:20260408T075314Z
URL:"http://sofo-hd.de/event/1775641936"
END:VEVENT
BEGIN:VEVENT
UID:1775677250@sofo-hd.de
DTSTART:20260506T170000Z
SUMMARY:"Studis gegen Rechts - Spasstreffen"
LOCATION:rabatz
DESCRIPTION:"Wir sind Studis gegen Rechts, eine studentische Initia
 tive gegen den Rechtsruck. Wir treffen uns mittwochs im
  Rabatz zum Spasstreffen. Komm gerne vorbei, egal wie v
 iel Erfahrung du mit politischer Arbeit hast! Gerade da
 s Spasstreffen ist gut geeignet um uns kennenzulernen u
 nd mitzumachen! :)\nZu Beginn gibt es ein Mini-Plenum,
  in dem wir unsere nächsten Aktionen besprechen und ans
 chließend kochen wir gemeinsam vegan 🌱 \n\nZeitplan:
 \n\n* 18 Uhr: Raumöffnung, die ersten trudeln ein\n* 
 19 Uhr: Mini-Plenum\n* danach: Gemeinsames Kochen, Kar
 tenspiele & Austausch\n\nKomm gerne schon zwischen 18
  und 19 Uhr vorbei!\n\nHier ist der Link zu unserer T
 elegram Gruppe, falls du Fragen hast:\nhttps://t.me/+7
 n8ykwVIBydlNThi\n\nHier ist unser Instagramkanal:\nh
 ttps://www.instagram.com/studisgegenrechts_heidelberg/"
DTSTAMP:20260416T073545Z
URL:"http://sofo-hd.de/event/1775677250"
END:VEVENT
BEGIN:VEVENT
UID:1775642267@sofo-hd.de
DTSTART:20260508T160000Z
SUMMARY:"Sektempfang und Veranstaltung zum Tag der Befreiung"
LOCATION:"IG Metall, Friedrich-Ebert-Anlage 24"
DESCRIPTION:"Sektempfang und Veranstaltung zum 8. Mai: Wer nicht fe
 iert, hat verloren!\n\nVeranstaltet von: VVN-BdA, unt
 erstützt vom DGB"
DTSTAMP:20260408T075925Z
URL:"http://sofo-hd.de/event/1775642267"
END:VEVENT
BEGIN:VEVENT
UID:1776527375@sofo-hd.de
DTSTART:20260509T100000Z
SUMMARY:"Bookclub for Palestine: \"Minor Details\""
LOCATION:"MURX\nOberbadgasse 6, 69117 Heidelberg"
DESCRIPTION:"We are having our second reading session with the nove
 l \"Minor Detail\" by Adania Shibli, a novel about the 
 experience of two Palestinian women with the military, 
 sexual and bureaucratic violence of the Israeli occupat
 ion.\nTrigger warning: Rape, Murder.\nWe have our rea
 ding group on every second Saturday of the month: save 
 the date of 13.06 and for the book \"Queer Palestine an
 d the Empire of Critique\" !\n\nPlease contact us per
  Email <sfpheidelberg[at]protonmail.com> or via Instagr
 am <@sfp-heidelberg> to get more information, to get ac
 cess to a digital version of the book, or for book sugg
 estions!"
DTSTAMP:20260418T135819Z
URL:"http://sofo-hd.de/event/1776527375"
END:VEVENT
BEGIN:VEVENT
UID:1757447476@sofo-hd.de
DTSTART:20260512T170000Z
SUMMARY:"Treffen der Initiative Stolpersteine Heidelberg"
LOCATION:vhs
DTSTAMP:20250909T175110Z
URL:"http://sofo-hd.de/event/1757447476"
END:VEVENT
BEGIN:VEVENT
UID:1775677110@sofo-hd.de
DTSTART:20260513T160000Z
SUMMARY:"Studis gegen Rechts - Offenes Plenum"
LOCATION:rabatz
DESCRIPTION:"Wir sind Studis gegen Rechts, eine studentische Initia
 tive gegen den Rechtsruck. Wir treffen uns mittwochs im
  Rabatz zum offenen Plenum. Dort organisieren wir unser
 e nächsten Aktionen und tauschen uns über politische Th
 emen aus.\nKomm gerne vorbei, egal wie viel Erfahrung 
 du mit politischer Arbeit hast! \n\nHier ist der Link
  zu unserer Telegram Gruppe, falls du Fragen hast:\nht
 tps://t.me/+7n8ykwVIBydlNThi\n\nHier ist unser Instag
 ramkanal:\nhttps://www.instagram.com/studisgegenrechts
 _heidelberg/"
DTSTAMP:20260410T220654Z
URL:"http://sofo-hd.de/event/1775677110"
END:VEVENT
BEGIN:VEVENT
UID:1771752084@sofo-hd.de
DTSTART:20260514T173000Z
SUMMARY:"Offenes Antifa-Treffen"
LOCATION:gegendruck
DESCRIPTION:"Offenes Antifaschistisches Treffen Heidelberg"
DTSTAMP:20260222T082123Z
URL:"http://sofo-hd.de/event/1771752084"
END:VEVENT
BEGIN:VEVENT
UID:1775642630@sofo-hd.de
DTSTART:20260517T091500Z
SUMMARY:"Gemeinsame Fahrt zur KZ-Gedenkstätte Osthofen"
LOCATION:"Treffpunkt: Hauptbahnhof HD"
DESCRIPTION:"Das KZ Osthofen bei Worms war vom Frühjahr 1933 bis He
 rbst 1934 eines der frühen KZs, in denen politische Geg
 ner*innen der Nazis engesperrt, gedemütigt und brutal m
 isshandelt wurden. Die aus Hessen stammenden Häftlinge 
 gehörten großteils der KPD, teilweise auch der SPD, den
  Gewerkschaften oder anderen Orgnaisationen der Arbeite
 r*innenbewegung an. Für viele von ihnen war die Inhafti
 erung in der ehemaligen Fabrik in Osthofen nur der Auft
 akt einer 12 Jahre anhaltenden Verfolgung.\n\nMit der
  S-Bahn wollen wir zusammen die KZ-Gedenkstätte Osthofe
 n besuchen. Nach einem kurzen Rundgang über das Gelände
  gibt es ausreichend Zeit, um in Kleingruppen die beein
 druckende Dauerausstellung zu den KZs Osthofen und Hinz
 ert anzusehen und die aktuelle Ausstellung \"Die Verleu
 gneten\" zu bsuchen. Am späten Nachmittag fahren wir ge
 meinsam zurück.\n\nVeranstaltet von: VVN-BdA HD, VVN-
 BdA MA, AIHD und ROSA Hochschulgruppe "
DTSTAMP:20260408T080451Z
URL:"http://sofo-hd.de/event/1775642630"
END:VEVENT
END:VCALENDAR
