BEGIN:VCALENDAR
VERSION:2.0
PRODID:http://sofo-hd.de
BEGIN:VEVENT
UID:1771026999@sofo-hd.de
DTSTART:20260422T130000Z
SUMMARY:"Murx am Mittwoch"
LOCATION:"Oberbadgasse 6, 69117 Heidelberg"
DESCRIPTION:".. image:: https://i.ibb.co/FLtwPQGj/Sofo-Murx-am-Mitt
 woch-1v2.png\n\nLust auf einen gemütlichen Austausch,
  magst Du einfach dem Altstadttrubel entfliehen? Gemütl
 ich einen Kaffee trinken oder Dich mit jemanden unterha
 lten? Dann komm vorbei!\n\nWir sind am jeden Mittwoch
  ab 15 Uhr im Murx, in der Oberbadgasse 6, in der Heide
 lberger Altstadt. Es gibt Kaffee, Tee, Limonade & Co. a
 uf Spendenbasis. Weitere Infos findet Ihr hier.\n\nWa
 nn: Jeden Mittwoch, 15 bis 22 Uhr\n\nWo: Freiraum Mur
 x, Oberbadgasse 6, 69117 Heidelberg-Altstadt\n\nÖPNV:
  Rathaus/Bergbahn, Heidelberg oder Alte Brücke, Heidelb
 erg\n\nBarrierefreiheit: Weitgehend barrierearm\n\n
 Wichtig: Solltet Ihr Euch krank fühlen, dann bleibt bit
 te daheim, das Murx am Mittwoch gibt es an jeden Mittwo
 ch und wir freuen uns Euch zu sehen wenn es Euch wieder
  gut geht. Natürlich haben wir wenn Ihr Euch nicht sich
 er seid vor Ort auch Corona-Tests. OP-Masken und FFP3-M
 asken.\n\n.. image:: https://i.ibb.co/qYVXsRJT/Sofo-M
 urx-am-Mittwoch-2v2.png"
DTSTAMP:20260310T173535Z
URL:"http://sofo-hd.de/event/1771026999"
END:VEVENT
BEGIN:VEVENT
UID:1775676350@sofo-hd.de
DTSTART:20260422T170000Z
SUMMARY:"Studis gegen Rechts - Spasstreffen"
LOCATION:rabatz
DESCRIPTION:"Wir sind Studis gegen Rechts, eine studentische Initia
 tive gegen den Rechtsruck. Wir treffen uns mittwochs im
  Rabatz zum Spasstreffen. Komm gerne vorbei, egal wie v
 iel Erfahrung du mit politischer Arbeit hast! Gerade da
 s Spasstreffen ist gut geeignet um uns kennenzulernen u
 nd mitzumachen! :)\nZu Beginn gibt es ein Mini-Plenum,
  in dem wir unsere nächsten Aktionen besprechen und ans
 chließend kochen wir gemeinsam vegan 🌱 \n\nHier ist d
 er Link zu unserer Telegram Gruppe, falls du Fragen has
 t:\nhttps://t.me/+7n8ykwVIBydlNThi\n\nHier ist unser
  Instagramkanal:\nhttps://www.instagram.com/studisgege
 nrechts_heidelberg/"
DTSTAMP:20260419T205647Z
URL:"http://sofo-hd.de/event/1775676350"
END:VEVENT
BEGIN:VEVENT
UID:1775814557@sofo-hd.de
DTSTART:20260423T160000Z
SUMMARY:"DEFEND PROSFYGIKA ✊ - Info- und Soliveranstaltung"
LOCATION:"Murx, Oberbadgasse 6, 69117 Heidelberg"
DESCRIPTION:".. image:: https://i.ibb.co/C59w78mz/sofo-2026-04-23-D
 efend-Prosfygika-1v2.png\n\nDie Gemeinschaft des bese
 tzten Prosfygika ist ein horizontales, selbstorganisier
 tes sozio-politisches Projekt des Kampfes der sozialen 
 Basis. Das besetzte Viertel im Zentrum von Athen ist He
 imat von 400 Menschen und ein Vorschlag für die Organis
 ation einer befreiten Gesellschaft. Internationale Klas
 sensolidarität ist notwendig, um diesen befreiten Boden
  zu verteidigen! Die Gemeinschaft braucht dringend fina
 nzielle Unterstützung für ihren Kampf.\n\nWir wollen 
 die Menschen in Prosfygika solidarisch unterstützten un
 d haben deshalb eine KüfA und Merch organisiert. Außerd
 em wollen wir mit Euch ein Solifoto aufnehmen und den M
 enschen dort schicken.\n\nWeitere Infos zu Prosfygika
  gibt es hier: https://sykaprosquat.noblogs.org/english
 /the-community\n\nWas: Info- und Soliveranstaltung fü
 r Prosfygika\n\nWann: Donnerstag, 23. April 2026, 18 
 Uhr\n\nWo: Murx, Oberbadgasse 6, 69117 Heidelberg\n
 \nÖPNV: Bergbahn/Rathaus, Heidelberg und Alte Brücke, H
 eidelberg\n\nBarrierefreiheit: Für Menschen in Rollst
 ühlen weitgehend barrierearm\n\n.. image:: https://i.
 ibb.co/ZpgyPSx4/sofo-2026-04-23-Defend-Prosfygika-2v2.p
 ng"
DTSTAMP:20260410T080049Z
URL:"http://sofo-hd.de/event/1775814557"
END:VEVENT
BEGIN:VEVENT
UID:1773695964@sofo-hd.de
DTSTART:20260427T073000Z
SUMMARY:"German Classes/Deutschkurs"
LOCATION:"Murx, Oberbadgasse 6, 69117 Heidelberg"
DESCRIPTION:".. image:: https://i.ibb.co/TzM1jfT/Sofo-Deutschkurs-1
 v3.png\n\n.. image:: https://i.ibb.co/rRS7Bk4n/Sofo-D
 eutschkurs-2v3.png\n\nLearn German in a small group /
  Deutschlernen in einer kleinen Gruppe\n\n[english] W
 e'll practice communication, comprehension, vocabulary,
  pronunciation, and, if you like, grammar as well. Inte
 nsive exam preparation is also available. I'll select i
 ndividual exercises tailored to your prior knowledge an
 d send them to you by email. I'll also send the answer 
 key by email. It's best to bring a notebook to class fo
 r taking notes.\n\n[german] Wir trainieren die Kommun
 ikation, die  Verständigung, den Wortschatz, die Ausspr
 ache und wenn du möchtest auch die Grammatik. Eine inte
 nsive Prüfungsvorbereitung ist auch möglich. Die indivi
 duellen Übungsaufgaben wähle ich passend zu deinen Vork
 enntnissen. Ich schicke sie per Email. Auch die Lösunge
 n sende ich per Email. Bringe zum Unterricht am besten 
 einen Block für Notizen mit. \n\nWhere/Wo: Murx, Ober
 badgasse 6, Heidelberg \nWhen/Wann: Monday, 9.30 - 11.
 30 am/Montags, 9.30 bis 11.30\nCosts/Kosten: On a dona
 tion basis/Auf Spendenbasis\nPublic transport/ÖPNV: Ra
 thaus/Bergbahn, Heidelberg oder Alte Brücke, Heidelberg
 \nAccessibility/Barrierefreiheit: Weitgehend barrierea
 rm / Largely barrier-free\n\nImportant: If you feel i
 ll, please stay at home to protect others. Of course, i
 f you are unsure, we also have coronavirus tests, surgi
 cal masks, and FFP3 masks available on site.\n\nWicht
 ig: Solltet Ihr Euch krank fühlen, dann bleibt bitte da
 heim um andere zu schützen. Natürlich haben wir wenn Ih
 r Euch nicht sicher seid vor Ort auch Corona-Tests, OP-
 Masken und FFP3-Masken.\n\n.. image:: https://i.ibb.c
 o/NgcCM0P1/Sofo-Deutschkurs-3v3.png"
DTSTAMP:20260316T201931Z
URL:"http://sofo-hd.de/event/1773695964"
END:VEVENT
BEGIN:VEVENT
UID:1773695593@sofo-hd.de
DTSTART:20260427T090000Z
SUMMARY:"Philosophie Lesekreis"
LOCATION:"Murx, Oberbadgasse 6, 69117 Heidelberg"
DESCRIPTION:".. image:: https://i.ibb.co/VcY5CbXf/sofo-Philosophie-
 Lesekreis-1v2.png\n\nFreiheit atmen, in Alternativen 
 denken – Philosophie-Lesekreis im Murx\nDu am Ufer des
  Neckars, wo Gedanken frei fließen: Entdecke die Welt m
 it anderen Augen! In unserem wöchentlichen Lesekreis be
 gegnest du mutigen Denker:innen – zum Beispiel Hannah A
 rendt über Verantwortung, Simone de Beauvoir zur Selbst
 gestaltung, Mary Wollstonecraft für gleiche Rechte, Alb
 ert Camus zum Aufstand des Alltags, Ernst Bloch zur Hof
 fnung und Karl Marx zu alternativen Welten.\n\nGemein
 sam liest du, zweifelst du, träumst du Alternativen her
 auf: Was befreit deinen Alltag?\nWie entfalten sich kr
 itische Flügel im Hier und Jetzt?\nEin Raum für deine 
 neugierige Seele, lebendige Freiheit und inspirierende 
 Stimmen – mitten in der Heidelberger Altstadt.\nWenn I
 hr vorbei kommen wollt, meldet Euch gerne unter kultur.
 neckarau@gmail.com an.\n\nWann: Jeden Montag um 11 Uh
 r\n\nWo: Oberbadgasse 6, 69117 Heidelberg (Altstadt)
 \n\nÖPNV: Bergbahn/Rathaus, Heidelberg und Alte Brücke
 , Heidelberg\n\nBarrierefreiheit: Für Menschen in Rol
 lstühlen weitgehend barrierearm\n\nWichtig: Solltest 
 Du Dich krank fühlen, dann bleib bitte daheim um andere
  zu schützen, wir freuen uns Dich gesund beim nächsten 
 Treffen  zu sehen. Solltet Ihr Euch nicht sicher sein, 
 haben wir vor Ort auch Corona-Tests, und Masken.\n\n.
 . image:: https://i.ibb.co/WW8JwHtg/sofo-Philosophie-Le
 sekreis-2v2.png"
DTSTAMP:20260316T201414Z
URL:"http://sofo-hd.de/event/1773695593"
END:VEVENT
BEGIN:VEVENT
UID:1771026945@sofo-hd.de
DTSTART:20260427T150000Z
SUMMARY:"Murx am Montag"
LOCATION:"Oberbadgasse 6, 69117 Heidelberg"
DESCRIPTION:".. image:: https://i.ibb.co/395603p5/sofo-Murx-am-Mitt
 woch-long-1v2.png\n\nLust auf einen gemütlichen Austa
 usch, magst Du einfach dem Altstadttrubel entfliehen? G
 emütlich einen Kaffee trinken oder Dich mit jemanden un
 terhalten? Dann komm vorbei!\n\nWir sind am jeden Mon
 tag ab 15 Uhr im Murx, in der Oberbadgasse 6, in der He
 idelberger Altstadt. Es gibt Kaffee, Tee, Limonade & Co
 . auf Spendenbasis. Weitere Infos findet Ihr hier.\n\
 nWann: Jeden Montag, 15 bis 22 Uhr\n\nWo: Freiraum Mu
 rx, Oberbadgasse 6, 69117 Heidelberg-Altstadt\n\nÖPNV
 : Rathaus/Bergbahn, Heidelberg oder Alte Brücke, Heidel
 berg\n\nBarrierefreiheit: Weitgehend barrierearm\n\
 nWichtig: Solltet Ihr Euch krank fühlen, dann bleibt bi
 tte daheim, das Murx am Mittwoch gibt es an jeden Mittw
 och und wir freuen uns Euch zu sehen wenn es Euch wiede
 r gut geht. Natürlich haben wir wenn Ihr Euch nicht sic
 her seid vor Ort auch Corona-Tests. OP-Masken und FFP3-
 Masken.\n\n.. image:: https://i.ibb.co/gFBRx4PG/sofo-
 Murx-am-Mittwoch-2v2.png"
DTSTAMP:20260306T173135Z
URL:"http://sofo-hd.de/event/1771026945"
END:VEVENT
BEGIN:VEVENT
UID:1771027018@sofo-hd.de
DTSTART:20260429T130000Z
SUMMARY:"Murx am Mittwoch"
LOCATION:"Oberbadgasse 6, 69117 Heidelberg"
DESCRIPTION:".. image:: https://i.ibb.co/FLtwPQGj/Sofo-Murx-am-Mitt
 woch-1v2.png\n\nLust auf einen gemütlichen Austausch,
  magst Du einfach dem Altstadttrubel entfliehen? Gemütl
 ich einen Kaffee trinken oder Dich mit jemanden unterha
 lten? Dann komm vorbei!\n\nWir sind am jeden Mittwoch
  ab 15 Uhr im Murx, in der Oberbadgasse 6, in der Heide
 lberger Altstadt. Es gibt Kaffee, Tee, Limonade & Co. a
 uf Spendenbasis. Weitere Infos findet Ihr hier.\n\nWa
 nn: Jeden Mittwoch, 15 bis 22 Uhr\n\nWo: Freiraum Mur
 x, Oberbadgasse 6, 69117 Heidelberg-Altstadt\n\nÖPNV:
  Rathaus/Bergbahn, Heidelberg oder Alte Brücke, Heidelb
 erg\n\nBarrierefreiheit: Weitgehend barrierearm\n\n
 Wichtig: Solltet Ihr Euch krank fühlen, dann bleibt bit
 te daheim, das Murx am Mittwoch gibt es an jeden Mittwo
 ch und wir freuen uns Euch zu sehen wenn es Euch wieder
  gut geht. Natürlich haben wir wenn Ihr Euch nicht sich
 er seid vor Ort auch Corona-Tests. OP-Masken und FFP3-M
 asken.\n\n.. image:: https://i.ibb.co/qYVXsRJT/Sofo-M
 urx-am-Mittwoch-2v2.png"
DTSTAMP:20260310T173504Z
URL:"http://sofo-hd.de/event/1771027018"
END:VEVENT
BEGIN:VEVENT
UID:1775847218@sofo-hd.de
DTSTART:20260429T163000Z
SUMMARY:"Treffen des Enthinderungsreferats"
LOCATION:"Mathematikon, SR C und online über Zoom"
DESCRIPTION:"Kreatives Treffen zum Vernetzen und gemeinsam Spaß hab
 en!\n\nBeim kreativen Treffen des Enthinderungsrefera
 ts geht es um Austausch, Ausdruck und gemeinsames Gesta
 lten. Hier kannst du dich kreativ entfalten – ganz ohne
  Leistungsdruck. Ob Malen, Basteln, Schreiben oder einf
 ach Ideen teilen: Alles ist möglich🖌️✂️📝.\n\nEin beso
 nderer Fokus liegt auch auf der gemeinsamen Gestaltung 
 von Plakaten für eine Demo im Rahmen des Europäischen P
 rotesttags zur Gleichstellung von Menschen mit Behinder
 ungen/Tag der Inklusion und Welt-ME/CFS-Tag. Du kannst 
 dich also nicht nur kreativ ausprobieren, sondern auch 
 aktiv werden und deine Perspektiven sichtbar machen.\n
 \nGleichzeitig entsteht Raum für Begegnung und Gespräc
 he über das, was uns bewegt. Besonders wichtig ist uns,
  dass jede*r teilnehmen kann – unabhängig von Einschrän
 kungen. Kreativität verbindet, stärkt Stimmen und schaf
 ft Öffentlichkeit – sei dabei!"
DTSTAMP:20260416T211249Z
URL:"http://sofo-hd.de/event/1775847218"
END:VEVENT
BEGIN:VEVENT
UID:1775677017@sofo-hd.de
DTSTART:20260429T170000Z
SUMMARY:"Studis gegen Rechts - Offenes Plenum"
LOCATION:rabatz
DESCRIPTION:"Wir sind Studis gegen Rechts, eine studentische Initia
 tive gegen den Rechtsruck. Wir treffen uns mittwochs im
  Rabatz zum offenen Plenum. Dort organisieren wir unser
 e nächsten Aktionen und tauschen uns über politische Th
 emen aus.\nKomm gerne vorbei, egal wie viel Erfahrung 
 du mit politischer Arbeit hast! \n\nZeitplan:\n\n* 
 18 Uhr: Raumöffnung, die ersten trudeln ein\n* 19 Uhr:
  Kleingruppenarbeit\n* 20 Uhr: Offenes Plenum\n\nKom
 m gerne schon zwischen 18 und 19 Uhr vorbei!\n\nHier 
 ist der Link zu unserer Telegram Gruppe, falls du Frage
 n hast:\nhttps://t.me/+7n8ykwVIBydlNThi\n\nHier ist 
 unser Instagramkanal:\nhttps://www.instagram.com/studi
 sgegenrechts_heidelberg/"
DTSTAMP:20260416T073514Z
URL:"http://sofo-hd.de/event/1775677017"
END:VEVENT
BEGIN:VEVENT
UID:1775677250@sofo-hd.de
DTSTART:20260506T170000Z
SUMMARY:"Studis gegen Rechts - Spasstreffen"
LOCATION:rabatz
DESCRIPTION:"Wir sind Studis gegen Rechts, eine studentische Initia
 tive gegen den Rechtsruck. Wir treffen uns mittwochs im
  Rabatz zum Spasstreffen. Komm gerne vorbei, egal wie v
 iel Erfahrung du mit politischer Arbeit hast! Gerade da
 s Spasstreffen ist gut geeignet um uns kennenzulernen u
 nd mitzumachen! :)\nZu Beginn gibt es ein Mini-Plenum,
  in dem wir unsere nächsten Aktionen besprechen und ans
 chließend kochen wir gemeinsam vegan 🌱 \n\nZeitplan:
 \n\n* 18 Uhr: Raumöffnung, die ersten trudeln ein\n* 
 19 Uhr: Mini-Plenum\n* danach: Gemeinsames Kochen, Kar
 tenspiele & Austausch\n\nKomm gerne schon zwischen 18
  und 19 Uhr vorbei!\n\nHier ist der Link zu unserer T
 elegram Gruppe, falls du Fragen hast:\nhttps://t.me/+7
 n8ykwVIBydlNThi\n\nHier ist unser Instagramkanal:\nh
 ttps://www.instagram.com/studisgegenrechts_heidelberg/"
DTSTAMP:20260416T073545Z
URL:"http://sofo-hd.de/event/1775677250"
END:VEVENT
BEGIN:VEVENT
UID:1776799899@sofo-hd.de
DTSTART:20260509T090000Z
SUMMARY:"Jungpflanzenmarkt in der Gärtnerei Wildwuchs e.V.🪴☀️"
LOCATION:"Gemeinschaftsgärtnerei Wildwuchs, in den Handschuhshei
 mer Feldern (Wegbeschreibung dorthin kann gerne erfragt
  werden kontakt@wildwuchs-hd.de)"
DESCRIPTION:"Herzliche Einladung zum Jungpflanzenmarkt am Samstag, 
 9. Mai im Südgarten der Gemeinschaftsgärtnerei Wildwuch
 s e.V. Von 11 bis 14 Uhr stehen allen die Tore offen fü
 r den Pflänzchen-Tausch und Kauf, dazu gibt's gemütlich
 en Kaffee-Kuchen-Plausch. Dabei kann auch die Gemeinsch
 aftsgärtnerei kennengelernt werden.🪴☀️ "
DTSTAMP:20260421T214042Z
URL:"http://sofo-hd.de/event/1776799899"
END:VEVENT
BEGIN:VEVENT
UID:1775677110@sofo-hd.de
DTSTART:20260513T160000Z
SUMMARY:"Studis gegen Rechts - Offenes Plenum"
LOCATION:rabatz
DESCRIPTION:"Wir sind Studis gegen Rechts, eine studentische Initia
 tive gegen den Rechtsruck. Wir treffen uns mittwochs im
  Rabatz zum offenen Plenum. Dort organisieren wir unser
 e nächsten Aktionen und tauschen uns über politische Th
 emen aus.\nKomm gerne vorbei, egal wie viel Erfahrung 
 du mit politischer Arbeit hast! \n\nHier ist der Link
  zu unserer Telegram Gruppe, falls du Fragen hast:\nht
 tps://t.me/+7n8ykwVIBydlNThi\n\nHier ist unser Instag
 ramkanal:\nhttps://www.instagram.com/studisgegenrechts
 _heidelberg/"
DTSTAMP:20260410T220654Z
URL:"http://sofo-hd.de/event/1775677110"
END:VEVENT
END:VCALENDAR
