BEGIN:VCALENDAR
VERSION:2.0
PRODID:http://sofo-hd.de
BEGIN:VEVENT
UID:1775641462@sofo-hd.de
DTSTART:20260430T170000Z
SUMMARY:"Antifaschistische Vorabend-Demo „Burschis in den Necka
 r fegen!“"
LOCATION:stabu
DESCRIPTION:"Antifaschistische Vorabend-Demo „Burschis in den Necka
 r fegen! Feministisch und antifaschistisch in den 1. Ma
 i“\n\nBurschenschaften und andere Studentenverbindung
 en fallen immer wieder durch Angriffe gegen Jüd*innen, 
 rassifizierte Menschen, FLINTA*s und Queers auf. Diese 
 Angriffe sind in der korporierten Welt keine erstaunlic
 hen Einzelfälle, sondern regelmäßiger Ausdruck der Ideo
 logie der reaktionären Männerbünde. In Heidelberg prägt
 e den Vorabend zum 1. Mai jahrelang ein Fackelmarsch de
 r Korporationen, bei dem rechte Lieder gesungen und mas
 senhaft rassistische Übergriffe verübt wurden - bis die
  Autonome Antifa Heidelberg das braune Treiben 1997 zur
 ückschlug. Seitdem füllen wir am Abend des 30. April de
 n öffentlichen Raum mit linken Inhalten. Wie schon in d
 en vergangenen Jahren nehmen wir uns auch 2026 die Stra
 ße und halten Heidelberg mit einer feministischen und a
 ntifaschistischen Vorabenddemo burschifrei!\n\nDie St
 udentenverbindungen klammern sich an jahrhundertealte S
 trukturen des Patriarchats. Wir werden in der Walpurgis
 nacht klar machen, dass wir diese zerschlagen werden. D
 enn wir sind die Enkel*innen der Hexen, die sie nicht v
 erbrennen konnten! Burschis in den Neckar fegen! \n\n
 2020 kam es zu einem brutalen antisemitischen Übergriff
  auf dem Haus der Burschenschaft Normannia, bei dem die
  Korporierten einen Gast, der jüdische Vorfahren hat, m
 it Gürteln verprügelten und mit Geld bewarfen. Sechs Ja
 hre später versucht die Rechtsaußen-Verbindung, sich ne
 u zu formieren. Aber wir werden zu ihrem Haus ziehen un
 d klar machen: Es wird kein neues Kapitel der Nazi-Burs
 chenschaft in Heidelberg geben!\n\nDie Demo startet a
 m 30. April 2026 um 19 Uhr mit einer Auftaktkundgebung 
 an der Stadtbücherei Heidelberg. Im Anschluss gibt's ve
 gane Küfa im Café Gegendruck. Feministisch und antifasc
 histisch in den 1. Mai! \n\nVeranstaltet von AIHD, Se
 ebrücke, Falken, VVN-BdA, ROSA  Hochschulgruppe und Lin
 ksjugend ['solid]"
DTSTAMP:20260420T055804Z
URL:"http://sofo-hd.de/event/1775641462"
END:VEVENT
END:VCALENDAR
